BEGIN:VCALENDAR
VERSION:2.0
PRODID:-//DIOCESI DI ROMA - ECPv4.6.14.1//NONSGML v1.0//EN
CALSCALE:GREGORIAN
METHOD:PUBLISH
X-WR-CALNAME:DIOCESI DI ROMA
X-ORIGINAL-URL:https://www.diocesidiroma.it
X-WR-CALDESC:Eventi per DIOCESI DI ROMA
BEGIN:VEVENT
DTSTART;TZID=Europe/Rome:20190212T160000
DTEND;TZID=Europe/Rome:20190212T160000
DTSTAMP:20260424T054937
CREATED:20190208T092037Z
LAST-MODIFIED:20190208T092037Z
UID:6384-1549987200-1549987200@www.diocesidiroma.it
SUMMARY:Al Pontificio Seminario Romano Maggiore incontra i seminaristi
DESCRIPTION:Al Pontificio Seminario Romano Maggiore incontra i seminaristi. \n
URL:https://www.diocesidiroma.it/event/al-pontificio-seminario-romano-maggiore-incontra-i-seminaristi-2/
CATEGORIES:NON USARE --- Agenda del Vicario
END:VEVENT
END:VCALENDAR