BEGIN:VCALENDAR
VERSION:2.0
PRODID:-//DIOCESI DI ROMA - ECPv4.6.14.1//NONSGML v1.0//EN
CALSCALE:GREGORIAN
METHOD:PUBLISH
X-WR-CALNAME:DIOCESI DI ROMA
X-ORIGINAL-URL:https://www.diocesidiroma.it
X-WR-CALDESC:Eventi per DIOCESI DI ROMA
BEGIN:VEVENT
DTSTART;TZID=Europe/Rome:20220310T160000
DTEND;TZID=Europe/Rome:20220310T160000
DTSTAMP:20260420T165656
CREATED:20220304T090839Z
LAST-MODIFIED:20220304T091201Z
UID:20551-1646928000-1646928000@www.diocesidiroma.it
SUMMARY: Al Pontificio Seminario Romano Maggiore incontra i seminaristi del I anno
DESCRIPTION: Al Pontificio Seminario Romano Maggiore incontra i seminaristi del I anno. \n
URL:https://www.diocesidiroma.it/event/al-pontificio-seminario-romano-maggiore-incontra-i-seminaristi-del-i-anno/
CATEGORIES:NON USARE --- Agenda del Vicario
END:VEVENT
END:VCALENDAR