BEGIN:VCALENDAR
VERSION:2.0
PRODID:-//DIOCESI DI ROMA - ECPv4.6.14.1//NONSGML v1.0//EN
CALSCALE:GREGORIAN
METHOD:PUBLISH
X-WR-CALNAME:DIOCESI DI ROMA
X-ORIGINAL-URL:https://www.diocesidiroma.it
X-WR-CALDESC:Eventi per DIOCESI DI ROMA
BEGIN:VEVENT
DTSTART;TZID=Europe/Rome:20220303T170000
DTEND;TZID=Europe/Rome:20220303T170000
DTSTAMP:20260424T135124
CREATED:20220225T113354Z
LAST-MODIFIED:20220225T113354Z
UID:20477-1646326800-1646326800@www.diocesidiroma.it
SUMMARY:Al Pontificio Seminario Romano Maggiore incontra i seminaristi del V anno
DESCRIPTION:Al Pontificio Seminario Romano Maggiore incontra i seminaristi del V anno. \n
URL:https://www.diocesidiroma.it/event/al-pontificio-seminario-romano-maggiore-incontra-i-seminaristi-del-v-anno/
CATEGORIES:NON USARE --- Agenda del Vicario
END:VEVENT
END:VCALENDAR