BEGIN:VCALENDAR
VERSION:2.0
PRODID:-//DIOCESI DI ROMA - ECPv4.6.14.1//NONSGML v1.0//EN
CALSCALE:GREGORIAN
METHOD:PUBLISH
X-WR-CALNAME:DIOCESI DI ROMA
X-ORIGINAL-URL:https://www.diocesidiroma.it
X-WR-CALDESC:Eventi per DIOCESI DI ROMA
BEGIN:VEVENT
DTSTART;TZID=Europe/Rome:20210119T180000
DTEND;TZID=Europe/Rome:20210119T180000
DTSTAMP:20260421T180415
CREATED:20210115T124218Z
LAST-MODIFIED:20210115T124218Z
UID:13153-1611079200-1611079200@www.diocesidiroma.it
SUMMARY:Al Pontificio Seminario Romano Maggiore incontra la Comunità
DESCRIPTION:Al Pontificio Seminario Romano Maggiore incontra la Comunità \n
URL:https://www.diocesidiroma.it/event/al-pontificio-seminario-romano-maggiore-incontra-la-comunita/
CATEGORIES:NON USARE --- Agenda del Vicario
END:VEVENT
END:VCALENDAR