BEGIN:VCALENDAR
VERSION:2.0
PRODID:-//DIOCESI DI ROMA - ECPv4.6.14.1//NONSGML v1.0//EN
CALSCALE:GREGORIAN
METHOD:PUBLISH
X-WR-CALNAME:DIOCESI DI ROMA
X-ORIGINAL-URL:https://www.diocesidiroma.it
X-WR-CALDESC:Eventi per DIOCESI DI ROMA
BEGIN:VEVENT
DTSTART;TZID=Europe/Rome:20181204T190000
DTEND;TZID=Europe/Rome:20181204T190000
DTSTAMP:20260422T100813
CREATED:20181130T090044Z
LAST-MODIFIED:20181130T090044Z
UID:5724-1543950000-1543950000@www.diocesidiroma.it
SUMMARY:Al Pontificio Seminario Romano Maggiore incontra le coppie in preparazione al matrimonio
DESCRIPTION:Al Pontificio Seminario Romano Maggiore incontra le coppie in preparazione al matrimonio.  \n
URL:https://www.diocesidiroma.it/event/al-pontificio-seminario-romano-maggiore-incontra-le-coppie-in-preparazione-al-matrimonio/
CATEGORIES:NON USARE --- Agenda del Vicario
END:VEVENT
END:VCALENDAR