BEGIN:VCALENDAR
VERSION:2.0
PRODID:-//DIOCESI DI ROMA - ECPv4.6.14.1//NONSGML v1.0//EN
CALSCALE:GREGORIAN
METHOD:PUBLISH
X-WR-CALNAME:DIOCESI DI ROMA
X-ORIGINAL-URL:https://www.diocesidiroma.it
X-WR-CALDESC:Eventi per DIOCESI DI ROMA
BEGIN:VEVENT
DTSTART;TZID=Europe/Rome:20191019T100000
DTEND;TZID=Europe/Rome:20191019T100000
DTSTAMP:20260421T010112
CREATED:20191011T081728Z
LAST-MODIFIED:20191011T081746Z
UID:9050-1571479200-1571479200@www.diocesidiroma.it
SUMMARY:Al Pontificio Seminario Romano Maggiore partecipa alla presentazione delle linee guida per il ministero dell’esorcismo
DESCRIPTION:Al Pontificio Seminario Romano Maggiore partecipa alla presentazione delle linee guida per il ministero dell’esorcismo. \n
URL:https://www.diocesidiroma.it/event/al-pontificio-seminario-romano-maggiore-partecipa-alla-presentazione-delle-linee-guida-per-il-ministero-dellesorcismo/
CATEGORIES:NON USARE --- Agenda del Vicario
END:VEVENT
END:VCALENDAR