BEGIN:VCALENDAR
VERSION:2.0
PRODID:-//DIOCESI DI ROMA - ECPv4.6.14.1//NONSGML v1.0//EN
CALSCALE:GREGORIAN
METHOD:PUBLISH
X-WR-CALNAME:DIOCESI DI ROMA
X-ORIGINAL-URL:https://www.diocesidiroma.it
X-WR-CALDESC:Eventi per DIOCESI DI ROMA
BEGIN:VEVENT
DTSTART;TZID=Europe/Rome:20191214T093000
DTEND;TZID=Europe/Rome:20191214T093000
DTSTAMP:20260424T223358
CREATED:20191206T092121Z
LAST-MODIFIED:20191206T092147Z
UID:9499-1576315800-1576315800@www.diocesidiroma.it
SUMMARY:Al Pontificio Seminario Romano Maggiore partecipa all’incontro di catechesi sulla disabilità organizzato dall’Ufficio catechistico della diocesi di Roma
DESCRIPTION:Al Pontificio Seminario Romano Maggiore partecipa all’incontro di catechesi sulla disabilità organizzato dall’Ufficio catechistico della diocesi di Roma. \n
URL:https://www.diocesidiroma.it/event/al-pontificio-seminario-romano-maggiore-partecipa-allincontro-di-catechesi-sulla-disabilita-organizzato-dallufficio-catechistico-della-diocesi-di-roma/
CATEGORIES:NON USARE --- Agenda del Vicario
END:VEVENT
END:VCALENDAR