BEGIN:VCALENDAR
VERSION:2.0
PRODID:-//DIOCESI DI ROMA - ECPv4.6.14.1//NONSGML v1.0//EN
CALSCALE:GREGORIAN
METHOD:PUBLISH
X-WR-CALNAME:DIOCESI DI ROMA
X-ORIGINAL-URL:https://www.diocesidiroma.it
X-WR-CALDESC:Eventi per DIOCESI DI ROMA
BEGIN:VEVENT
DTSTART;TZID=Europe/Rome:20210118T100000
DTEND;TZID=Europe/Rome:20210118T100000
DTSTAMP:20260421T211023
CREATED:20210115T124131Z
LAST-MODIFIED:20210115T124145Z
UID:13151-1610964000-1610964000@www.diocesidiroma.it
SUMMARY:Al Pontificio Seminario Romano Maggiore presiede il Consiglio dei Prefetti
DESCRIPTION:Al Pontificio Seminario Romano Maggiore presiede il Consiglio dei Prefetti. \n
URL:https://www.diocesidiroma.it/event/al-pontificio-seminario-romano-maggiore-presiede-il-consiglio-dei-prefetti/
CATEGORIES:NON USARE --- Agenda del Vicario
END:VEVENT
END:VCALENDAR