BEGIN:VCALENDAR
VERSION:2.0
PRODID:-//DIOCESI DI ROMA - ECPv4.6.14.1//NONSGML v1.0//EN
CALSCALE:GREGORIAN
METHOD:PUBLISH
X-WR-CALNAME:DIOCESI DI ROMA
X-ORIGINAL-URL:https://www.diocesidiroma.it
X-WR-CALDESC:Eventi per DIOCESI DI ROMA
BEGIN:VEVENT
DTSTART;TZID=Europe/Rome:20191127T160000
DTEND;TZID=Europe/Rome:20191127T160000
DTSTAMP:20260421T192543
CREATED:20191122T094149Z
LAST-MODIFIED:20191122T094149Z
UID:9383-1574870400-1574870400@www.diocesidiroma.it
SUMMARY:Al Pontificio Seminario Romano Maggiore presiede il Consiglio di presidenza ed incontra i responsabili dell’Opera romana pellegrinaggi
DESCRIPTION:Al Pontificio Seminario Romano Maggiore presiede il Consiglio di presidenza ed incontra i responsabili dell’Opera romana pellegrinaggi.  \n
URL:https://www.diocesidiroma.it/event/al-pontificio-seminario-romano-maggiore-presiede-il-consiglio-di-presidenza-ed-incontra-i-responsabili-dellopera-romana-pellegrinaggi/
CATEGORIES:NON USARE --- Agenda del Vicario
END:VEVENT
END:VCALENDAR