BEGIN:VCALENDAR
VERSION:2.0
PRODID:-//DIOCESI DI ROMA - ECPv4.6.14.1//NONSGML v1.0//EN
CALSCALE:GREGORIAN
METHOD:PUBLISH
X-WR-CALNAME:DIOCESI DI ROMA
X-ORIGINAL-URL:https://www.diocesidiroma.it
X-WR-CALDESC:Eventi per DIOCESI DI ROMA
BEGIN:VEVENT
DTSTART;TZID=Europe/Rome:20201207T100000
DTEND;TZID=Europe/Rome:20201207T100000
DTSTAMP:20260424T033849
CREATED:20201204T134140Z
LAST-MODIFIED:20201204T134140Z
UID:12694-1607335200-1607335200@www.diocesidiroma.it
SUMMARY:Al Pontificio Seminario Romano Maggiore presiede il Consiglio Presbiterale
DESCRIPTION:Al Pontificio Seminario Romano Maggiore presiede il Consiglio Presbiterale. \n
URL:https://www.diocesidiroma.it/event/al-pontificio-seminario-romano-maggiore-presiede-il-consiglio-presbiterale/
CATEGORIES:NON USARE --- Agenda del Vicario
END:VEVENT
END:VCALENDAR