BEGIN:VCALENDAR
VERSION:2.0
PRODID:-//DIOCESI DI ROMA - ECPv4.6.14.1//NONSGML v1.0//EN
CALSCALE:GREGORIAN
METHOD:PUBLISH
X-WR-CALNAME:DIOCESI DI ROMA
X-ORIGINAL-URL:https://www.diocesidiroma.it
X-WR-CALDESC:Eventi per DIOCESI DI ROMA
BEGIN:VEVENT
DTSTART;TZID=Europe/Rome:20221022T090000
DTEND;TZID=Europe/Rome:20221022T090000
DTSTAMP:20260424T061531
CREATED:20221014T084246Z
LAST-MODIFIED:20221014T084246Z
UID:23512-1666429200-1666429200@www.diocesidiroma.it
SUMMARY:Al Pontificio Seminario Romano Maggiore presiede l’incontro con i sacerdoti studenti presenti a Roma che prestano servizio pastorale nelle parrocchie o in altre comunità pastorali
DESCRIPTION:Al Pontificio Seminario Romano Maggiore presiede l’incontro con i sacerdoti studenti presenti a Roma che prestano servizio pastorale nelle parrocchie o in altre comunità pastorali. \n
URL:https://www.diocesidiroma.it/event/al-pontificio-seminario-romano-maggiore-presiede-lincontro-con-i-sacerdoti-studenti-presenti-a-roma-che-prestano-servizio-pastorale-nelle-parrocchie-o-in-altre-comunita-pastorali/
CATEGORIES:NON USARE --- Agenda del Vicario
END:VEVENT
END:VCALENDAR