BEGIN:VCALENDAR
VERSION:2.0
PRODID:-//DIOCESI DI ROMA - ECPv4.6.14.1//NONSGML v1.0//EN
CALSCALE:GREGORIAN
METHOD:PUBLISH
X-WR-CALNAME:DIOCESI DI ROMA
X-ORIGINAL-URL:https://www.diocesidiroma.it
X-WR-CALDESC:Eventi per DIOCESI DI ROMA
BEGIN:VEVENT
DTSTART;TZID=Europe/Rome:20181215T093000
DTEND;TZID=Europe/Rome:20181215T093000
DTSTAMP:20260421T043335
CREATED:20181207T085054Z
LAST-MODIFIED:20181207T085054Z
UID:5787-1544866200-1544866200@www.diocesidiroma.it
SUMMARY:Al Pontificio Seminario Romano Maggiore tiene la meditazione di Avvento al Coro della diocesi di Roma
DESCRIPTION:Al Pontificio Seminario Romano Maggiore tiene la meditazione di Avvento al Coro della diocesi di Roma.  \n
URL:https://www.diocesidiroma.it/event/al-pontificio-seminario-romano-maggiore-tiene-la-meditazione-di-avvento-al-coro-della-diocesi-di-roma/
CATEGORIES:NON USARE --- Agenda del Vicario
END:VEVENT
END:VCALENDAR