BEGIN:VCALENDAR
VERSION:2.0
PRODID:-//DIOCESI DI ROMA - ECPv4.6.14.1//NONSGML v1.0//EN
CALSCALE:GREGORIAN
METHOD:PUBLISH
X-WR-CALNAME:DIOCESI DI ROMA
X-ORIGINAL-URL:https://www.diocesidiroma.it
X-WR-CALDESC:Eventi per DIOCESI DI ROMA
BEGIN:VEVENT
DTSTART;TZID=Europe/Rome:20210520T093000
DTEND;TZID=Europe/Rome:20210520T093000
DTSTAMP:20260421T045230
CREATED:20210514T094347Z
LAST-MODIFIED:20210517T104030Z
UID:15581-1621503000-1621503000@www.diocesidiroma.it
SUMMARY:Al Pontificio Seminario Romano Maggiore incontra i sacerdoti dal 6° al 10° anno di ordinazione
DESCRIPTION:Al Pontificio Seminario Romano Maggiore incontra i sacerdoti dal 6° al 10° anno di ordinazione. \n
URL:https://www.diocesidiroma.it/event/al-pontificio-seminario-romano-maggiorie-incontra-i-sacerdoti-dal-1-al-5-anno-di-ordinazione-2/
CATEGORIES:NON USARE --- Agenda del Vicario
END:VEVENT
END:VCALENDAR