BEGIN:VCALENDAR
VERSION:2.0
PRODID:-//DIOCESI DI ROMA - ECPv4.6.14.1//NONSGML v1.0//EN
CALSCALE:GREGORIAN
METHOD:PUBLISH
X-WR-CALNAME:DIOCESI DI ROMA
X-ORIGINAL-URL:https://www.diocesidiroma.it
X-WR-CALDESC:Eventi per DIOCESI DI ROMA
BEGIN:VEVENT
DTSTART;TZID=Europe/Rome:20210515T190000
DTEND;TZID=Europe/Rome:20210515T190000
DTSTAMP:20260420T214115
CREATED:20210507T104528Z
LAST-MODIFIED:20210507T104535Z
UID:15465-1621105200-1621105200@www.diocesidiroma.it
SUMMARY:Al Pontificio Seminario Romano Minore celebra la Messa in occasione della Festa della Madonna della Perseveranza
DESCRIPTION: Al Pontificio Seminario Romano Minore celebra la Messa in occasione della Festa della Madonna della Perseveranza. \n
URL:https://www.diocesidiroma.it/event/al-pontificio-seminario-romano-minore-celebra-la-messa-in-occasione-della-festa-della-madonna-della-perseveranza/
CATEGORIES:NON USARE --- Agenda del Vicario
END:VEVENT
END:VCALENDAR