BEGIN:VCALENDAR
VERSION:2.0
PRODID:-//DIOCESI DI ROMA - ECPv4.6.14.1//NONSGML v1.0//EN
CALSCALE:GREGORIAN
METHOD:PUBLISH
X-WR-CALNAME:DIOCESI DI ROMA
X-ORIGINAL-URL:https://www.diocesidiroma.it
X-WR-CALDESC:Eventi per DIOCESI DI ROMA
BEGIN:VEVENT
DTSTART;TZID=Europe/Rome:20210512T183000
DTEND;TZID=Europe/Rome:20210512T183000
DTSTAMP:20260421T030143
CREATED:20210507T104411Z
LAST-MODIFIED:20210507T104411Z
UID:15461-1620844200-1620844200@www.diocesidiroma.it
SUMMARY:Al Pontifico Seminario Romano Maggiore celera la Messa in occasione del voto della Madonna della Fiducia
DESCRIPTION:Al Pontifico Seminario Romano Maggiore celera la Messa in occasione del voto della Madonna della Fiducia. \n
URL:https://www.diocesidiroma.it/event/al-pontifico-seminario-romano-maggiore-celera-la-messa-in-occasione-del-voto-della-madonna-della-fiducia/
CATEGORIES:NON USARE --- Agenda del Vicario
END:VEVENT
END:VCALENDAR