BEGIN:VCALENDAR
VERSION:2.0
PRODID:-//DIOCESI DI ROMA - ECPv4.6.14.1//NONSGML v1.0//EN
CALSCALE:GREGORIAN
METHOD:PUBLISH
X-WR-CALNAME:DIOCESI DI ROMA
X-ORIGINAL-URL:https://www.diocesidiroma.it
X-WR-CALDESC:Eventi per DIOCESI DI ROMA
BEGIN:VEVENT
DTSTART;TZID=Europe/Rome:20201222T103000
DTEND;TZID=Europe/Rome:20201222T103000
DTSTAMP:20260421T093942
CREATED:20201218T122535Z
LAST-MODIFIED:20201218T122614Z
UID:12871-1608633000-1608633000@www.diocesidiroma.it
SUMMARY:Al Pontifico Seminario Romano Maggiore incontra il personale dell’Opera Romana Pellegrinaggi in occasione del Natale
DESCRIPTION:Al Pontifico Seminario Romano Maggiore incontra il personale dell’Opera Romana Pellegrinaggi in occasione del Natale.  \n
URL:https://www.diocesidiroma.it/event/al-pontifico-seminario-romano-maggiore-incontra-il-personale-dellopera-romana-pellegrinaggi-in-occasione-del-natale/
CATEGORIES:NON USARE --- Agenda del Vicario
END:VEVENT
END:VCALENDAR