BEGIN:VCALENDAR
VERSION:2.0
PRODID:-//DIOCESI DI ROMA - ECPv4.6.14.1//NONSGML v1.0//EN
CALSCALE:GREGORIAN
METHOD:PUBLISH
X-WR-CALNAME:DIOCESI DI ROMA
X-ORIGINAL-URL:https://www.diocesidiroma.it
X-WR-CALDESC:Eventi per DIOCESI DI ROMA
BEGIN:VEVENT
DTSTART;TZID=Europe/Rome:20190609T173000
DTEND;TZID=Europe/Rome:20190609T173000
DTSTAMP:20260420T200525
CREATED:20190531T105912Z
LAST-MODIFIED:20190531T105912Z
UID:7732-1560101400-1560101400@www.diocesidiroma.it
SUMMARY:Al Santuario del Divino Amore celebra la Messa e inaugura la nuova cappella dell’adorazione del Santissimo Sacramento
DESCRIPTION:Al Santuario del Divino Amore celebra la Messa e inaugura la nuova cappella dell’adorazione del Santissimo Sacramento. \n
URL:https://www.diocesidiroma.it/event/al-santuario-del-divino-amore-celebra-la-messa-e-inaugura-la-nuova-cappella-delladorazione-del-santissimo-sacramento/
CATEGORIES:NON USARE --- Agenda del Vicario
END:VEVENT
END:VCALENDAR