BEGIN:VCALENDAR
VERSION:2.0
PRODID:-//DIOCESI DI ROMA - ECPv4.6.14.1//NONSGML v1.0//EN
CALSCALE:GREGORIAN
METHOD:PUBLISH
X-WR-CALNAME:DIOCESI DI ROMA
X-ORIGINAL-URL:https://www.diocesidiroma.it
X-WR-CALDESC:Eventi per DIOCESI DI ROMA
BEGIN:VEVENT
DTSTART;TZID=Europe/Rome:20190103T093000
DTEND;TZID=Europe/Rome:20190103T093000
DTSTAMP:20260424T163408
CREATED:20181221T094906Z
LAST-MODIFIED:20181221T094906Z
UID:5919-1546507800-1546507800@www.diocesidiroma.it
SUMMARY:Al Santuario del Divino Amore incontra gli Oblati e le Figlie della Madonna del Divino Amore in occasione dell’anniversario del morte del loro fondatore
DESCRIPTION:Al Santuario del Divino Amore incontra gli Oblati e le Figlie della Madonna del Divino Amore in occasione dell’anniversario del morte del loro fondatore.  \n
URL:https://www.diocesidiroma.it/event/al-santuario-del-divino-amore-incontra-gli-oblati-e-le-figlie-della-madonna-del-divino-amore-in-occasione-dellanniversario-del-morte-del-loro-fondatore/
CATEGORIES:NON USARE --- Agenda del Vicario
END:VEVENT
END:VCALENDAR