BEGIN:VCALENDAR
VERSION:2.0
PRODID:-//DIOCESI DI ROMA - ECPv4.6.14.1//NONSGML v1.0//EN
CALSCALE:GREGORIAN
METHOD:PUBLISH
X-WR-CALNAME:DIOCESI DI ROMA
X-ORIGINAL-URL:https://www.diocesidiroma.it
X-WR-CALDESC:Eventi per DIOCESI DI ROMA
BEGIN:VEVENT
DTSTART;TZID=Europe/Rome:20220320T060000
DTEND;TZID=Europe/Rome:20220320T060000
DTSTAMP:20260421T011530
CREATED:20220311T185826Z
LAST-MODIFIED:20220311T185826Z
UID:20706-1647756000-1647756000@www.diocesidiroma.it
SUMMARY:Al Santuario della Madonna del Divino Amore celebra la Messa a conclusione del pellegrinaggio notturno per la pace
DESCRIPTION:Al Santuario della Madonna del Divino Amore celebra la Messa a conclusione del pellegrinaggio notturno per la pace \n
URL:https://www.diocesidiroma.it/event/al-santuario-della-madonna-del-divino-amore-celebra-la-messa-a-conclusione-del-pellegrinaggio-notturno-per-la-pace/
CATEGORIES:NON USARE --- Agenda del Vicario
END:VEVENT
END:VCALENDAR