BEGIN:VCALENDAR
VERSION:2.0
PRODID:-//DIOCESI DI ROMA - ECPv4.6.14.1//NONSGML v1.0//EN
CALSCALE:GREGORIAN
METHOD:PUBLISH
X-WR-CALNAME:DIOCESI DI ROMA
X-ORIGINAL-URL:https://www.diocesidiroma.it
X-WR-CALDESC:Eventi per DIOCESI DI ROMA
BEGIN:VEVENT
DTSTART;TZID=Europe/Rome:20190223T090000
DTEND;TZID=Europe/Rome:20190223T090000
DTSTAMP:20260420T214338
CREATED:20190215T110155Z
LAST-MODIFIED:20190215T110155Z
UID:6576-1550912400-1550912400@www.diocesidiroma.it
SUMMARY:Al Santuario della Madonna del Divino Amore partecipa al Convegno formativo per le superiori di comunità religiose organizzato dall’Usmi Lazio
DESCRIPTION:Al Santuario della Madonna del Divino Amore partecipa al Convegno formativo per le superiori di comunità religiose organizzato dall’Usmi Lazio. \n
URL:https://www.diocesidiroma.it/event/al-santuario-della-madonna-del-divino-amore-partecipa-al-convegno-formativo-per-le-superiori-di-comunita-religiose-organizzato-dallusmi-lazio/
CATEGORIES:NON USARE --- Agenda del Vicario
END:VEVENT
END:VCALENDAR