BEGIN:VCALENDAR
VERSION:2.0
PRODID:-//DIOCESI DI ROMA - ECPv4.6.14.1//NONSGML v1.0//EN
CALSCALE:GREGORIAN
METHOD:PUBLISH
X-WR-CALNAME:DIOCESI DI ROMA
X-ORIGINAL-URL:https://www.diocesidiroma.it
X-WR-CALDESC:Eventi per DIOCESI DI ROMA
BEGIN:VEVENT
DTSTART;TZID=Europe/Rome:20190328T093000
DTEND;TZID=Europe/Rome:20190328T093000
DTSTAMP:20260422T100248
CREATED:20190325T082253Z
LAST-MODIFIED:20190325T082253Z
UID:7159-1553765400-1553765400@www.diocesidiroma.it
SUMMARY:Al Santuario Madonna del Divino Amore partecipa al Convegno "La Rivoluzione della tenerezza" promosso dalla Commissione per l’ecumenismo e il dialogo della Conferenza episcopale laziale
DESCRIPTION:Al Santuario Madonna del Divino Amore partecipa al Convegno “La Rivoluzione della tenerezza” promosso dalla Commissione per l’ecumenismo e il dialogo della Conferenza episcopale laziale. \n
URL:https://www.diocesidiroma.it/event/al-santuario-madonna-del-divino-amore-partecipa-al-convegno-la-rivoluzione-della-tenerezza-promosso-dalla-commissione-per-lecumenismo-e-il-dialogo-della-conferenza-episcopale-laziale/
CATEGORIES:NON USARE --- Agenda del Vicario
END:VEVENT
END:VCALENDAR