BEGIN:VCALENDAR
VERSION:2.0
PRODID:-//DIOCESI DI ROMA - ECPv4.6.14.1//NONSGML v1.0//EN
CALSCALE:GREGORIAN
METHOD:PUBLISH
X-WR-CALNAME:DIOCESI DI ROMA
X-ORIGINAL-URL:https://www.diocesidiroma.it
X-WR-CALDESC:Eventi per DIOCESI DI ROMA
BEGIN:VEVENT
DTSTART;TZID=Europe/Rome:20230529T153000
DTEND;TZID=Europe/Rome:20230529T153000
DTSTAMP:20260423T212230
CREATED:20230526T093208Z
LAST-MODIFIED:20230526T093208Z
UID:26466-1685374200-1685374200@www.diocesidiroma.it
SUMMARY:Al Seminario della Madonna del Divino Amore incontra i seminaristi
DESCRIPTION:Al Seminario della Madonna del Divino Amore incontra i seminaristi. \n
URL:https://www.diocesidiroma.it/event/al-seminario-della-madonna-del-divino-amore-incontra-i-seminaristi-2/
CATEGORIES:NON USARE --- Agenda del Vicario
END:VEVENT
END:VCALENDAR