BEGIN:VCALENDAR
VERSION:2.0
PRODID:-//DIOCESI DI ROMA - ECPv4.6.14.1//NONSGML v1.0//EN
CALSCALE:GREGORIAN
METHOD:PUBLISH
X-WR-CALNAME:DIOCESI DI ROMA
X-ORIGINAL-URL:https://www.diocesidiroma.it
X-WR-CALDESC:Eventi per DIOCESI DI ROMA
BEGIN:VEVENT
DTSTART;VALUE=DATE:20250301
DTEND;VALUE=DATE:20250302
DTSTAMP:20260422T143450
CREATED:20250221T074621Z
LAST-MODIFIED:20250221T074621Z
UID:34046-1740787200-1740873599@www.diocesidiroma.it
SUMMARY:Al Seminario Romano Maggiore per la festa della Madonna della Fiducia
DESCRIPTION:Al Seminario Romano Maggiore per la festa della Madonna della Fiducia \n
URL:https://www.diocesidiroma.it/event/al-seminario-romano-maggiore-per-la-festa-della-madonna-della-fiducia/
CATEGORIES:Vicario Generale
END:VEVENT
END:VCALENDAR