BEGIN:VCALENDAR
VERSION:2.0
PRODID:-//DIOCESI DI ROMA - ECPv4.6.14.1//NONSGML v1.0//EN
CALSCALE:GREGORIAN
METHOD:PUBLISH
X-WR-CALNAME:DIOCESI DI ROMA
X-ORIGINAL-URL:https://www.diocesidiroma.it
X-WR-CALDESC:Eventi per DIOCESI DI ROMA
BEGIN:VEVENT
DTSTART;TZID=Europe/Rome:20180922T080000
DTEND;TZID=Europe/Rome:20180922T133000
DTSTAMP:20260421T211612
CREATED:20180917T101157Z
LAST-MODIFIED:20180918T101138Z
UID:4615-1537603200-1537623000@www.diocesidiroma.it
SUMMARY:Al Seraphicum il primo Meeting diocesano del Sovvenire
DESCRIPTION:Al Seraphicum il primo Meeting Diocesano del Sovvenire: “8XMILLE STRADE. I giovani di fronte al bivio: studi\, lavoro\, discernimento\, futuro”.  \n
URL:https://www.diocesidiroma.it/event/al-seraphicum-il-meeting-diocesano-del-sovvenire/
CATEGORIES:In Diocesi
END:VEVENT
END:VCALENDAR