BEGIN:VCALENDAR
VERSION:2.0
PRODID:-//DIOCESI DI ROMA - ECPv4.6.14.1//NONSGML v1.0//EN
CALSCALE:GREGORIAN
METHOD:PUBLISH
X-WR-CALNAME:DIOCESI DI ROMA
X-ORIGINAL-URL:https://www.diocesidiroma.it
X-WR-CALDESC:Eventi per DIOCESI DI ROMA
BEGIN:VEVENT
DTSTART;TZID=Europe/Rome:20220301T110000
DTEND;TZID=Europe/Rome:20220301T110000
DTSTAMP:20260424T055251
CREATED:20220225T112934Z
LAST-MODIFIED:20220225T112934Z
UID:20467-1646132400-1646132400@www.diocesidiroma.it
SUMMARY:Alla Corte dei Conti presso l’Aula delle Sezioni riunite partecipa alla cerimonia di inaugurazione dell’anno giudiziario
DESCRIPTION:Alla Corte dei Conti presso l’Aula delle Sezioni riunite partecipa alla cerimonia di inaugurazione dell’anno giudiziario.  \n
URL:https://www.diocesidiroma.it/event/alla-corte-dei-conti-presso-laula-delle-sezioni-riunite-partecipa-alla-cerimonia-di-inaugurazione-dellanno-giudiziario-2/
CATEGORIES:NON USARE --- Agenda del Vicario
END:VEVENT
END:VCALENDAR