BEGIN:VCALENDAR
VERSION:2.0
PRODID:-//DIOCESI DI ROMA - ECPv4.6.14.1//NONSGML v1.0//EN
CALSCALE:GREGORIAN
METHOD:PUBLISH
X-WR-CALNAME:DIOCESI DI ROMA
X-ORIGINAL-URL:https://www.diocesidiroma.it
X-WR-CALDESC:Eventi per DIOCESI DI ROMA
BEGIN:VEVENT
DTSTART;TZID=Europe/Rome:20220207T173000
DTEND;TZID=Europe/Rome:20220207T173000
DTSTAMP:20260421T060847
CREATED:20220204T102550Z
LAST-MODIFIED:20220204T102740Z
UID:20201-1644255000-1644255000@www.diocesidiroma.it
SUMMARY:Alla Pontificia Università Gregoriana interviene nella presentazione del volume “Rome: Three Millennia as Capital. What’s next?”
DESCRIPTION:Alla Pontificia Università Gregoriana interviene nella presentazione del volume “Rome: Three Millennia as Capital. What’s next?” \n
URL:https://www.diocesidiroma.it/event/alla-pontificia-universita-gregoriana-interviene-nella-presentazione-del-volume-rome-three-millennia-as-capital-whats-next/
CATEGORIES:NON USARE --- Agenda del Vicario
END:VEVENT
END:VCALENDAR