BEGIN:VCALENDAR
VERSION:2.0
PRODID:-//DIOCESI DI ROMA - ECPv4.6.14.1//NONSGML v1.0//EN
CALSCALE:GREGORIAN
METHOD:PUBLISH
X-WR-CALNAME:DIOCESI DI ROMA
X-ORIGINAL-URL:https://www.diocesidiroma.it
X-WR-CALDESC:Eventi per DIOCESI DI ROMA
BEGIN:VEVENT
DTSTART;TZID=Europe/Rome:20190129T160000
DTEND;TZID=Europe/Rome:20190129T160000
DTSTAMP:20260424T163235
CREATED:20190125T094757Z
LAST-MODIFIED:20190125T094757Z
UID:6200-1548777600-1548777600@www.diocesidiroma.it
SUMMARY:Alla Pontificia Università Lateranense insieme al rettore e all’Ufficio Scuola del Vicariato incontra i presidi delle scuole cattoliche
DESCRIPTION:Alla Pontificia Università Lateranense insieme al rettore e all’Ufficio Scuola del Vicariato incontra i presidi delle scuole cattoliche. \n
URL:https://www.diocesidiroma.it/event/alla-pontificia-universita-lateranense-insieme-al-rettore-e-allufficio-scuola-del-vicariato-incontra-i-presidi-delle-scuole-cattoliche/
CATEGORIES:NON USARE --- Agenda del Vicario
END:VEVENT
END:VCALENDAR