BEGIN:VCALENDAR
VERSION:2.0
PRODID:-//DIOCESI DI ROMA - ECPv4.6.14.1//NONSGML v1.0//EN
CALSCALE:GREGORIAN
METHOD:PUBLISH
X-WR-CALNAME:DIOCESI DI ROMA
X-ORIGINAL-URL:https://www.diocesidiroma.it
X-WR-CALDESC:Eventi per DIOCESI DI ROMA
BEGIN:VEVENT
DTSTART;TZID=Europe/Rome:20230419T113000
DTEND;TZID=Europe/Rome:20230419T113000
DTSTAMP:20260420T231937
CREATED:20230414T112843Z
LAST-MODIFIED:20230414T112843Z
UID:26015-1681903800-1681903800@www.diocesidiroma.it
SUMMARY:Alla Pontificia Università Lateranense partecipa al rito di benedizione dell’opera scultorea di Sant’Efrem il Siro
DESCRIPTION:Alla Pontificia Università Lateranense partecipa al rito di benedizione dell’opera scultorea di Sant’Efrem il Siro. \n
URL:https://www.diocesidiroma.it/event/alla-pontificia-universita-lateranense-partecipa-al-rito-di-benedizione-dellopera-scultorea-di-santefrem-il-siro/
CATEGORIES:NON USARE --- Agenda del Vicario
END:VEVENT
END:VCALENDAR