BEGIN:VCALENDAR
VERSION:2.0
PRODID:-//DIOCESI DI ROMA - ECPv4.6.14.1//NONSGML v1.0//EN
CALSCALE:GREGORIAN
METHOD:PUBLISH
X-WR-CALNAME:DIOCESI DI ROMA
X-ORIGINAL-URL:https://www.diocesidiroma.it
X-WR-CALDESC:Eventi per DIOCESI DI ROMA
BEGIN:VEVENT
DTSTART;TZID=Europe/Rome:20250925T153000
DTEND;TZID=Europe/Rome:20250925T153000
DTSTAMP:20260424T074318
CREATED:20250919T071641Z
LAST-MODIFIED:20250919T071641Z
UID:37273-1758814200-1758814200@www.diocesidiroma.it
SUMMARY:Alla Pontificia Università Lateranense partecipa al Senato accademico
DESCRIPTION:Alla Pontificia Università Lateranense partecipa al Senato accademico \n
URL:https://www.diocesidiroma.it/event/alla-pontificia-universita-lateranense-partecipa-al-senato-accademico/
CATEGORIES:Vicario Generale
END:VEVENT
END:VCALENDAR