BEGIN:VCALENDAR
VERSION:2.0
PRODID:-//DIOCESI DI ROMA - ECPv4.6.14.1//NONSGML v1.0//EN
CALSCALE:GREGORIAN
METHOD:PUBLISH
X-WR-CALNAME:DIOCESI DI ROMA
X-ORIGINAL-URL:https://www.diocesidiroma.it
X-WR-CALDESC:Eventi per DIOCESI DI ROMA
BEGIN:VEVENT
DTSTART;TZID=Europe/Rome:20191031T170000
DTEND;TZID=Europe/Rome:20191031T170000
DTSTAMP:20260421T030210
CREATED:20191025T090346Z
LAST-MODIFIED:20191025T090346Z
UID:9122-1572541200-1572541200@www.diocesidiroma.it
SUMMARY:Alla Pontificia Università Lateranense partecipa all’inaugurazione della mostra “Calligraphy for Dialogue. Promoting the Culture of Peace through Culture and Art” a seguito della giornata di studio in preparazione all’evento “Ricostruire il patto educativo globale” (14 maggio 2020)
DESCRIPTION:Alla Pontificia Università Lateranense partecipa all’inaugurazione della mostra “Calligraphy for Dialogue. Promoting the Culture of Peace through Culture and Art” a seguito della giornata di studio in preparazione all’evento “Ricostruire il patto educativo globale” (14 maggio 2020). \n
URL:https://www.diocesidiroma.it/event/alla-pontificia-universita-lateranense-partecipa-allinaugurazione-della-mostra-calligraphy-for-dialogue-promoting-the-culture-of-peace-through-culture-and-art-a-seguito-del/
CATEGORIES:NON USARE --- Agenda del Vicario
END:VEVENT
END:VCALENDAR