BEGIN:VCALENDAR
VERSION:2.0
PRODID:-//DIOCESI DI ROMA - ECPv4.6.14.1//NONSGML v1.0//EN
CALSCALE:GREGORIAN
METHOD:PUBLISH
X-WR-CALNAME:DIOCESI DI ROMA
X-ORIGINAL-URL:https://www.diocesidiroma.it
X-WR-CALDESC:Eventi per DIOCESI DI ROMA
BEGIN:VEVENT
DTSTART;TZID=Europe/Rome:20191219T090000
DTEND;TZID=Europe/Rome:20191219T090000
DTSTAMP:20260424T143347
CREATED:20191213T104123Z
LAST-MODIFIED:20191213T104123Z
UID:9554-1576746000-1576746000@www.diocesidiroma.it
SUMMARY:Alla Pontificia Università Lateranense partecipa allo scambio degli auguri natalizi con il personale
DESCRIPTION:Alla Pontificia Università Lateranense partecipa allo scambio degli auguri natalizi con il personale.  \n
URL:https://www.diocesidiroma.it/event/alla-pontificia-universita-lateranense-partecipa-allo-scambio-degli-auguri-natalizi-con-il-personale/
CATEGORIES:NON USARE --- Agenda del Vicario
END:VEVENT
END:VCALENDAR