BEGIN:VCALENDAR
VERSION:2.0
PRODID:-//DIOCESI DI ROMA - ECPv4.6.14.1//NONSGML v1.0//EN
CALSCALE:GREGORIAN
METHOD:PUBLISH
X-WR-CALNAME:DIOCESI DI ROMA
X-ORIGINAL-URL:https://www.diocesidiroma.it
X-WR-CALDESC:Eventi per DIOCESI DI ROMA
BEGIN:VEVENT
DTSTART;TZID=Europe/Rome:20231010T170000
DTEND;TZID=Europe/Rome:20231010T170000
DTSTAMP:20260424T040514
CREATED:20231006T103340Z
LAST-MODIFIED:20231006T103348Z
UID:27584-1696957200-1696957200@www.diocesidiroma.it
SUMMARY:Alla Pontificia Università Lateranense preside l’evento manzoniano “Fede e letteratura: il caso Manzoni a 150 anni dalla morte”
DESCRIPTION:Alla Pontificia Università Lateranense preside l’evento manzoniano “Fede e letteratura: il caso Manzoni a 150 anni dalla morte”. \n
URL:https://www.diocesidiroma.it/event/alla-pontificia-universita-lateranense-preside-levento-manzoniano-fede-e-letteratura-il-caso-manzoni-a-150-anni-dalla-morte/
CATEGORIES:NON USARE --- Agenda del Vicario
END:VEVENT
END:VCALENDAR