BEGIN:VCALENDAR
VERSION:2.0
PRODID:-//DIOCESI DI ROMA - ECPv4.6.14.1//NONSGML v1.0//EN
CALSCALE:GREGORIAN
METHOD:PUBLISH
X-WR-CALNAME:DIOCESI DI ROMA
X-ORIGINAL-URL:https://www.diocesidiroma.it
X-WR-CALDESC:Eventi per DIOCESI DI ROMA
BEGIN:VEVENT
DTSTART;TZID=Europe/Rome:20220224T160000
DTEND;TZID=Europe/Rome:20220224T160000
DTSTAMP:20260421T222532
CREATED:20220218T113751Z
LAST-MODIFIED:20220218T113751Z
UID:20368-1645718400-1645718400@www.diocesidiroma.it
SUMMARY:Alla Pontificia Università Lateranense presiede il Comitato di Sorveglianza del Pontificio Collegio Lateranense
DESCRIPTION:Alla Pontificia Università Lateranense presiede il Comitato di Sorveglianza del Pontificio Collegio Lateranense. \n
URL:https://www.diocesidiroma.it/event/alla-pontificia-universita-lateranense-presiede-il-comitato-di-sorveglianza-del-pontificio-collegio-lateranense/
CATEGORIES:NON USARE --- Agenda del Vicario
END:VEVENT
END:VCALENDAR