BEGIN:VCALENDAR
VERSION:2.0
PRODID:-//DIOCESI DI ROMA - ECPv4.6.14.1//NONSGML v1.0//EN
CALSCALE:GREGORIAN
METHOD:PUBLISH
X-WR-CALNAME:DIOCESI DI ROMA
X-ORIGINAL-URL:https://www.diocesidiroma.it
X-WR-CALDESC:Eventi per DIOCESI DI ROMA
BEGIN:VEVENT
DTSTART;TZID=Europe/Rome:20220221T180000
DTEND;TZID=Europe/Rome:20220221T180000
DTSTAMP:20260422T043525
CREATED:20220218T113622Z
LAST-MODIFIED:20220218T113622Z
UID:20364-1645466400-1645466400@www.diocesidiroma.it
SUMMARY:Alla Pontificia Università Lateranense presiede la preghiera iniziale dei soci del Circolo San Pietro riuniti in Assemblea Solenne
DESCRIPTION:Alla Pontificia Università Lateranense presiede la preghiera iniziale dei soci del Circolo San Pietro riuniti in Assemblea Solenne. \n
URL:https://www.diocesidiroma.it/event/alla-pontificia-universita-lateranense-presiede-la-preghiera-iniziale-dei-soci-del-circolo-san-pietro-riuniti-in-assemblea-solenne/
CATEGORIES:NON USARE --- Agenda del Vicario
END:VEVENT
END:VCALENDAR