BEGIN:VCALENDAR
VERSION:2.0
PRODID:-//DIOCESI DI ROMA - ECPv4.6.14.1//NONSGML v1.0//EN
CALSCALE:GREGORIAN
METHOD:PUBLISH
X-WR-CALNAME:DIOCESI DI ROMA
X-ORIGINAL-URL:https://www.diocesidiroma.it
X-WR-CALDESC:Eventi per DIOCESI DI ROMA
BEGIN:VEVENT
DTSTART;TZID=Europe/Rome:20231109T110000
DTEND;TZID=Europe/Rome:20231109T110000
DTSTAMP:20260421T094402
CREATED:20231103T100042Z
LAST-MODIFIED:20231103T100042Z
UID:27781-1699527600-1699527600@www.diocesidiroma.it
SUMMARY:Alla Pontificia Università Lateranense presiede l’inaugurazione dell’Anno Accademico
DESCRIPTION:Alla Pontificia Università Lateranense presiede l’inaugurazione dell’Anno Accademico \n
URL:https://www.diocesidiroma.it/event/alla-pontificia-universita-lateranense-presiede-linaugurazione-dellanno-accademico-5/
CATEGORIES:NON USARE --- Agenda del Vicario
END:VEVENT
END:VCALENDAR