BEGIN:VCALENDAR
VERSION:2.0
PRODID:-//DIOCESI DI ROMA - ECPv4.6.14.1//NONSGML v1.0//EN
CALSCALE:GREGORIAN
METHOD:PUBLISH
X-WR-CALNAME:DIOCESI DI ROMA
X-ORIGINAL-URL:https://www.diocesidiroma.it
X-WR-CALDESC:Eventi per DIOCESI DI ROMA
BEGIN:VEVENT
DTSTART;TZID=Europe/Rome:20191003T160000
DTEND;TZID=Europe/Rome:20191003T160000
DTSTAMP:20260422T192119
CREATED:20190927T080016Z
LAST-MODIFIED:20190927T080016Z
UID:8850-1570118400-1570118400@www.diocesidiroma.it
SUMMARY:Alla Pontificia Università Lateranense presiede l’incontro di presentazione del video del beato José Gregorio Hernández De carne y hueso.
DESCRIPTION:Alla Pontificia Università Lateranense presiede l’incontro di presentazione del video del beato José Gregorio Hernández De carne y hueso. \n
URL:https://www.diocesidiroma.it/event/alla-pontificia-universita-lateranense-presiede-lincontro-di-presentazione-del-video-del-beato-jose-gregorio-hernandez-de-carne-y-hueso/
CATEGORIES:NON USARE --- Agenda del Vicario
END:VEVENT
END:VCALENDAR