BEGIN:VCALENDAR
VERSION:2.0
PRODID:-//DIOCESI DI ROMA - ECPv4.6.14.1//NONSGML v1.0//EN
CALSCALE:GREGORIAN
METHOD:PUBLISH
X-WR-CALNAME:DIOCESI DI ROMA
X-ORIGINAL-URL:https://www.diocesidiroma.it
X-WR-CALDESC:Eventi per DIOCESI DI ROMA
BEGIN:VEVENT
DTSTART;TZID=Europe/Rome:20240208T100000
DTEND;TZID=Europe/Rome:20240208T100000
DTSTAMP:20260424T015304
CREATED:20240202T093608Z
LAST-MODIFIED:20240202T093608Z
UID:28779-1707386400-1707386400@www.diocesidiroma.it
SUMMARY:Alla Questura di Roma partecipa alla cerimonia di collocazione di tre pietre d’inciampo in occasione della “Giornata della Memoria”
DESCRIPTION:Alla Questura di Roma partecipa alla cerimonia di collocazione di tre pietre d’inciampo in occasione della “Giornata della Memoria”. \n
URL:https://www.diocesidiroma.it/event/alla-questura-di-roma-partecipa-alla-cerimonia-di-collocazione-di-tre-pietre-dinciampo-in-occasione-della-giornata-della-memoria/
CATEGORIES:NON USARE --- Agenda del Vicario
END:VEVENT
END:VCALENDAR