BEGIN:VCALENDAR
VERSION:2.0
PRODID:-//DIOCESI DI ROMA - ECPv4.6.14.1//NONSGML v1.0//EN
CALSCALE:GREGORIAN
METHOD:PUBLISH
X-WR-CALNAME:DIOCESI DI ROMA
X-ORIGINAL-URL:https://www.diocesidiroma.it
X-WR-CALDESC:Eventi per DIOCESI DI ROMA
BEGIN:VEVENT
DTSTART;TZID=Europe/Rome:20231010T110000
DTEND;TZID=Europe/Rome:20231010T110000
DTSTAMP:20260424T074742
CREATED:20231006T103238Z
LAST-MODIFIED:20231006T103238Z
UID:27582-1696935600-1696935600@www.diocesidiroma.it
SUMMARY:Alla Sapienza Università di Roma partecipa alla cerimonia di inaugurazione dell’anno accademico 2023 – 2024\, 721esima dalla fondazione dello Studium Urbis
DESCRIPTION:Alla Sapienza Università di Roma partecipa alla cerimonia di inaugurazione dell’anno accademico 2023 – 2024\, 721esima dalla fondazione dello Studium Urbis.  \n
URL:https://www.diocesidiroma.it/event/alla-sapienza-universita-di-roma-partecipa-alla-cerimonia-di-inaugurazione-dellanno-accademico-2023-2024-721esima-dalla-fondazione-dello-studium-urbis/
CATEGORIES:NON USARE --- Agenda del Vicario
END:VEVENT
END:VCALENDAR