BEGIN:VCALENDAR
VERSION:2.0
PRODID:-//DIOCESI DI ROMA - ECPv4.6.14.1//NONSGML v1.0//EN
CALSCALE:GREGORIAN
METHOD:PUBLISH
X-WR-CALNAME:DIOCESI DI ROMA
X-ORIGINAL-URL:https://www.diocesidiroma.it
X-WR-CALDESC:Eventi per DIOCESI DI ROMA
BEGIN:VEVENT
DTSTART;TZID=Europe/Rome:20221212T113000
DTEND;TZID=Europe/Rome:20221212T113000
DTSTAMP:20260421T144333
CREATED:20221209T100029Z
LAST-MODIFIED:20221209T100105Z
UID:24405-1670844600-1670844600@www.diocesidiroma.it
SUMMARY:Alla Scuola di Perfezionamento per le Forze di Polizia partecipa alla cerimonia di inaugurazione dell’Anno Accademico 2022/2023 della Polizia di Stato
DESCRIPTION:Alla Scuola di Perfezionamento per le Forze di Polizia partecipa alla cerimonia di inaugurazione dell’Anno Accademico 2022/2023 della Polizia di Stato. \n
URL:https://www.diocesidiroma.it/event/alla-scuola-di-perfezionamento-per-le-forze-di-polizia-partecipa-alla-cerimonia-di-inaugurazione-dellanno-accademico-2022-2023-della-polizia-di-stato/
CATEGORIES:NON USARE --- Agenda del Vicario
END:VEVENT
END:VCALENDAR