BEGIN:VCALENDAR
VERSION:2.0
PRODID:-//DIOCESI DI ROMA - ECPv4.6.14.1//NONSGML v1.0//EN
CALSCALE:GREGORIAN
METHOD:PUBLISH
X-WR-CALNAME:DIOCESI DI ROMA
X-ORIGINAL-URL:https://www.diocesidiroma.it
X-WR-CALDESC:Eventi per DIOCESI DI ROMA
BEGIN:VEVENT
DTSTART;TZID=Europe/Rome:20231128T163000
DTEND;TZID=Europe/Rome:20231128T163000
DTSTAMP:20260423T163229
CREATED:20231127T081842Z
LAST-MODIFIED:20231127T081842Z
UID:28000-1701189000-1701189000@www.diocesidiroma.it
SUMMARY:All’Almo Collegio Capranica presiede l’incontro dell’Alta Direzione
DESCRIPTION:All’Almo Collegio Capranica presiede l’incontro dell’Alta Direzione. \n
URL:https://www.diocesidiroma.it/event/allalmo-collegio-capranica-presiede-lincontro-dellalta-direzione-5/
CATEGORIES:NON USARE --- Agenda del Vicario
END:VEVENT
END:VCALENDAR