BEGIN:VCALENDAR
VERSION:2.0
PRODID:-//DIOCESI DI ROMA - ECPv4.6.14.1//NONSGML v1.0//EN
CALSCALE:GREGORIAN
METHOD:PUBLISH
X-WR-CALNAME:DIOCESI DI ROMA
X-ORIGINAL-URL:https://www.diocesidiroma.it
X-WR-CALDESC:Eventi per DIOCESI DI ROMA
BEGIN:VEVENT
DTSTART;TZID=Europe/Rome:20190214T173000
DTEND;TZID=Europe/Rome:20190214T173000
DTSTAMP:20260421T014222
CREATED:20190208T092334Z
LAST-MODIFIED:20190208T092334Z
UID:6392-1550165400-1550165400@www.diocesidiroma.it
SUMMARY:All’Ambasciata d’Italia presso la Santa Sede partecipa all’anniversario della firma dei Patti Lateranensi
DESCRIPTION:All’Ambasciata d’Italia presso la Santa Sede partecipa all’anniversario della firma dei Patti Lateranensi. \n
URL:https://www.diocesidiroma.it/event/allambasciata-ditalia-presso-la-santa-sede-partecipa-allanniversario-della-firma-dei-patti-lateranensi/
CATEGORIES:NON USARE --- Agenda del Vicario
END:VEVENT
END:VCALENDAR