BEGIN:VCALENDAR
VERSION:2.0
PRODID:-//DIOCESI DI ROMA - ECPv4.6.14.1//NONSGML v1.0//EN
CALSCALE:GREGORIAN
METHOD:PUBLISH
X-WR-CALNAME:DIOCESI DI ROMA
X-ORIGINAL-URL:https://www.diocesidiroma.it
X-WR-CALDESC:Eventi per DIOCESI DI ROMA
BEGIN:VEVENT
DTSTART;TZID=Europe/Rome:20250308T100000
DTEND;TZID=Europe/Rome:20250308T100000
DTSTAMP:20260424T164822
CREATED:20250228T095436Z
LAST-MODIFIED:20250228T095436Z
UID:34230-1741428000-1741428000@www.diocesidiroma.it
SUMMARY:All’Aquila per presentare il volume “Perdono e Perdonanza. Verso il Giubileo 2025”
DESCRIPTION:All’Aquila per presentare il volume “Perdono e Perdonanza. Verso il Giubileo 2025”  \n
URL:https://www.diocesidiroma.it/event/allaquila-per-presentare-il-volume-perdono-e-perdonanza-verso-il-giubileo-2025/
CATEGORIES:Vicario Generale
END:VEVENT
END:VCALENDAR