BEGIN:VCALENDAR
VERSION:2.0
PRODID:-//DIOCESI DI ROMA - ECPv4.6.14.1//NONSGML v1.0//EN
CALSCALE:GREGORIAN
METHOD:PUBLISH
X-WR-CALNAME:DIOCESI DI ROMA
X-ORIGINAL-URL:https://www.diocesidiroma.it
X-WR-CALDESC:Eventi per DIOCESI DI ROMA
BEGIN:VEVENT
DTSTART;TZID=Europe/Rome:20191116T120000
DTEND;TZID=Europe/Rome:20191116T120000
DTSTAMP:20260421T042717
CREATED:20191108T082427Z
LAST-MODIFIED:20191108T082441Z
UID:9212-1573905600-1573905600@www.diocesidiroma.it
SUMMARY:All’Auditorium dell’Ospedale Bambino Gesù della sede di San Paolo partecipa all’incontro in occasione del 25° anniversario dell’Associazione Volontari in Carceri
DESCRIPTION:All’Auditorium dell’Ospedale Bambino Gesù della sede di San Paolo partecipa all’incontro in occasione del 25° anniversario dell’Associazione Volontari in Carceri. \n
URL:https://www.diocesidiroma.it/event/allauditorium-dellospedale-bambino-gesu-della-sede-di-san-paolo-partecipa-allincontro-in-occasione-del-25-anniversario-dellassociazione-volontari-in-carceri/
CATEGORIES:NON USARE --- Agenda del Vicario
END:VEVENT
END:VCALENDAR