BEGIN:VCALENDAR
VERSION:2.0
PRODID:-//DIOCESI DI ROMA - ECPv4.6.14.1//NONSGML v1.0//EN
CALSCALE:GREGORIAN
METHOD:PUBLISH
X-WR-CALNAME:DIOCESI DI ROMA
X-ORIGINAL-URL:https://www.diocesidiroma.it
X-WR-CALDESC:Eventi per DIOCESI DI ROMA
BEGIN:VEVENT
DTSTART;TZID=Europe/Rome:20230215T103000
DTEND;TZID=Europe/Rome:20230215T103000
DTSTAMP:20260422T220131
CREATED:20230210T111258Z
LAST-MODIFIED:20230210T111258Z
UID:25265-1676457000-1676457000@www.diocesidiroma.it
SUMMARY:All’Auditorium dell’Università Cattolica del Sacro Cuore partecipa all’inaugurazione dell’anno accademico 2022 – 2023
DESCRIPTION:All’Auditorium dell’Università Cattolica del Sacro Cuore partecipa all’inaugurazione dell’anno accademico 2022 – 2023. \n
URL:https://www.diocesidiroma.it/event/allauditorium-delluniversita-cattolica-del-sacro-cuore-partecipa-allinaugurazione-dellanno-accademico-2022-2023/
CATEGORIES:NON USARE --- Agenda del Vicario
END:VEVENT
END:VCALENDAR