BEGIN:VCALENDAR
VERSION:2.0
PRODID:-//DIOCESI DI ROMA - ECPv4.6.14.1//NONSGML v1.0//EN
CALSCALE:GREGORIAN
METHOD:PUBLISH
X-WR-CALNAME:DIOCESI DI ROMA
X-ORIGINAL-URL:https://www.diocesidiroma.it
X-WR-CALDESC:Eventi per DIOCESI DI ROMA
BEGIN:VEVENT
DTSTART;TZID=Europe/Rome:20180426T100000
DTEND;TZID=Europe/Rome:20180426T100000
DTSTAMP:20260426T023617
CREATED:20180423T092256Z
LAST-MODIFIED:20180426T071149Z
UID:2338-1524736800-1524736800@www.diocesidiroma.it
SUMMARY:Alle 10 in Vicariato partecipa all'incontro con i cappellani ospedalieri.
DESCRIPTION: \n
URL:https://www.diocesidiroma.it/event/alle-10-in-vicariato-partecipa-allincontro-con-i-cappellani-ospedalieri/
CATEGORIES:NON USARE --- Agenda del Vicario
END:VEVENT
END:VCALENDAR