BEGIN:VCALENDAR
VERSION:2.0
PRODID:-//DIOCESI DI ROMA - ECPv4.6.14.1//NONSGML v1.0//EN
CALSCALE:GREGORIAN
METHOD:PUBLISH
X-WR-CALNAME:DIOCESI DI ROMA
X-ORIGINAL-URL:https://www.diocesidiroma.it
X-WR-CALDESC:Eventi per DIOCESI DI ROMA
BEGIN:VEVENT
DTSTART;TZID=Europe/Rome:20180426T120000
DTEND;TZID=Europe/Rome:20180426T120000
DTSTAMP:20260425T224735
CREATED:20180423T092605Z
LAST-MODIFIED:20180423T092605Z
UID:2340-1524744000-1524744000@www.diocesidiroma.it
SUMMARY:Alle 12 visita l'Università Campus Biomedico di Roma e celebra la Messa in occasione del XXV anniversario della fondazione.
DESCRIPTION:
URL:https://www.diocesidiroma.it/event/alle-12-visita-luniversita-campus-biomedico-di-roma-e-celebra-la-messa-in-occasione-del-xxv-anniversario-della-fondazione/
CATEGORIES:NON USARE --- Agenda del Vicario
END:VEVENT
END:VCALENDAR