BEGIN:VCALENDAR
VERSION:2.0
PRODID:-//DIOCESI DI ROMA - ECPv4.6.14.1//NONSGML v1.0//EN
CALSCALE:GREGORIAN
METHOD:PUBLISH
X-WR-CALNAME:DIOCESI DI ROMA
X-ORIGINAL-URL:https://www.diocesidiroma.it
X-WR-CALDESC:Eventi per DIOCESI DI ROMA
BEGIN:VEVENT
DTSTART;TZID=Europe/Rome:20180428T083000
DTEND;TZID=Europe/Rome:20180428T083000
DTSTAMP:20260425T205429
CREATED:20180423T092835Z
LAST-MODIFIED:20180423T092835Z
UID:2342-1524904200-1524904200@www.diocesidiroma.it
SUMMARY:Alle 8.30 celebra la Messa alla Domus Pacis in occasione del convegno delle presidenze diocesane dell'Azione cattolica italiana "Un popolo per tutti".
DESCRIPTION:
URL:https://www.diocesidiroma.it/event/alle-8-30-celebra-la-messa-alla-domus-pacis-in-occasione-del-convegno-delle-presidenze-diocesane-dellazione-cattolica-italiana-un-popolo-per-tutti/
CATEGORIES:NON USARE --- Agenda del Vicario
END:VEVENT
END:VCALENDAR