BEGIN:VCALENDAR
VERSION:2.0
PRODID:-//DIOCESI DI ROMA - ECPv4.6.14.1//NONSGML v1.0//EN
CALSCALE:GREGORIAN
METHOD:PUBLISH
X-WR-CALNAME:DIOCESI DI ROMA
X-ORIGINAL-URL:https://www.diocesidiroma.it
X-WR-CALDESC:Eventi per DIOCESI DI ROMA
BEGIN:VEVENT
DTSTART;TZID=Europe/Rome:20190908T190000
DTEND;TZID=Europe/Rome:20190908T190000
DTSTAMP:20260422T062157
CREATED:20190903T100257Z
LAST-MODIFIED:20190903T100257Z
UID:8199-1567969200-1567969200@www.diocesidiroma.it
SUMMARY:Alle Tre Fontane celebra la Messa in occasione degli 80 anni della Fondazione delle Piccole Sorelle di Gesù di Charles de Foucauld
DESCRIPTION:Alle Tre Fontane celebra la Messa in occasione degli 80 anni della Fondazione delle Piccole Sorelle di Gesù di Charles de Foucauld. \n
URL:https://www.diocesidiroma.it/event/alle-tre-fontane-celebra-la-messa-in-occasione-degli-80-anni-della-fondazione-delle-piccole-sorelle-di-gesu-di-charles-de-foucauld/
CATEGORIES:NON USARE --- Agenda del Vicario
END:VEVENT
END:VCALENDAR