BEGIN:VCALENDAR
VERSION:2.0
PRODID:-//DIOCESI DI ROMA - ECPv4.6.14.1//NONSGML v1.0//EN
CALSCALE:GREGORIAN
METHOD:PUBLISH
X-WR-CALNAME:DIOCESI DI ROMA
X-ORIGINAL-URL:https://www.diocesidiroma.it
X-WR-CALDESC:Eventi per DIOCESI DI ROMA
BEGIN:VEVENT
DTSTART;TZID=Europe/Rome:20250916T193000
DTEND;TZID=Europe/Rome:20250916T193000
DTSTAMP:20260424T114024
CREATED:20250912T094602Z
LAST-MODIFIED:20250912T094602Z
UID:37190-1758051000-1758051000@www.diocesidiroma.it
SUMMARY:All’Università La Sapienza\, benedizione di alcuni locali e presentazione dei cappellani
DESCRIPTION:All’Università La Sapienza\, benedizione di alcuni locali e presentazione dei cappellani \n
URL:https://www.diocesidiroma.it/event/alluniversita-la-sapienza-benedizione-di-alcuni-locali-e-presentazione-dei-cappellani/
CATEGORIES:Vicario Generale
END:VEVENT
END:VCALENDAR