BEGIN:VCALENDAR
VERSION:2.0
PRODID:-//DIOCESI DI ROMA - ECPv4.6.14.1//NONSGML v1.0//EN
CALSCALE:GREGORIAN
METHOD:PUBLISH
X-WR-CALNAME:DIOCESI DI ROMA
X-ORIGINAL-URL:https://www.diocesidiroma.it
X-WR-CALDESC:Eventi per DIOCESI DI ROMA
BEGIN:VEVENT
DTSTART;TZID=Europe/Rome:20251011T090000
DTEND;TZID=Europe/Rome:20251011T090000
DTSTAMP:20260423T220705
CREATED:20251006T065852Z
LAST-MODIFIED:20251006T065852Z
UID:37671-1760173200-1760173200@www.diocesidiroma.it
SUMMARY:Apertura anno Pastorale della Salute a Santa Croce in Gerusalemme
DESCRIPTION:Apertura anno Pastorale della Salute a Santa Croce in Gerusalemme \n
URL:https://www.diocesidiroma.it/event/apertura-anno-pastorale-della-salute-a-santa-croce-in-gerusalemme/
CATEGORIES:In Diocesi,Iniziative degli Uffici
END:VEVENT
END:VCALENDAR